BEGIN:VCALENDAR
VERSION:2.0
PRODID:icalendar-ruby
CALSCALE:GREGORIAN
METHOD:PUBLISH
BEGIN:VEVENT
DTSTAMP:20260425T172051Z
UID:1594-30962064@christchurchcathedral.bc.ca
DTSTART:20260907T213000Z
DTEND:20260907T223000Z
CLASS:PUBLIC
CREATED:20260416T135759
DESCRIPTION:Save the date! More information coming soon.
LAST-MODIFIED:20260416T135759
LOCATION:
SUMMARY:The Choir of Merton College (Oxford) in Concert
URL;VALUE=URI:https://www.christchurchcathedral.bc.ca/events/the-choir-of-m
 erton-college-oxford-in-concert/2026-09-07
END:VEVENT
END:VCALENDAR
