BEGIN:VCALENDAR
VERSION:2.0
PRODID:icalendar-ruby
CALSCALE:GREGORIAN
METHOD:PUBLISH
BEGIN:VEVENT
DTSTAMP:20260425T172526Z
UID:1589-31630530@christchurchcathedral.bc.ca
DTSTART:20260516T030000Z
DTEND:20260516T043000Z
CLASS:PUBLIC
CREATED:20260423T112501
DESCRIPTION:Podium - Canada's national choral Conference and Festival prese
 nts the National Youth Choir of Canada. \nPresented in partnership with C
 horal Canada and the British Columbia Choral Federation.\nTickets availabl
 e HERE. 
LAST-MODIFIED:20260423T112501
LOCATION:Christ Church Cathedral
SUMMARY:National Youth Choir of Canada
URL;VALUE=URI:https://www.christchurchcathedral.bc.ca/events/national-youth
 -choir-of-canada/2026-05-15
ATTACH;FILENAME=podium2026_blue-square.jpg;FMTTYPE=image/jpeg:https://dq5pw
 pg1q8ru0.cloudfront.net/2026/04/23/18/25/00/81b8f285-3f8b-4b7a-9800-437555
 3d2e46/podium2026_blue-square.jpg
END:VEVENT
END:VCALENDAR
