BEGIN:VCALENDAR
VERSION:2.0
PRODID:icalendar-ruby
CALSCALE:GREGORIAN
METHOD:PUBLISH
BEGIN:VEVENT
DTSTAMP:20260425T172740Z
UID:1591-30962061@christchurchcathedral.bc.ca
DTSTART:20260529T193000Z
DTEND:20260529T203000Z
CLASS:PUBLIC
CREATED:20260416T135052
DESCRIPTION:Cellist Hannah Craig and pianist Monica Pfau play a program of 
 music by Schumann\, Beethoven\, and Prokofiev. \nAdmission by donation.
LAST-MODIFIED:20260416T135052
LOCATION:Christ Church Cathedral
SUMMARY:Lunchtime Music: Hannah Craig and Monica Pfau
URL;VALUE=URI:https://www.christchurchcathedral.bc.ca/events/lunchtime-musi
 c-hannah-craig-and-monica-pfau/2026-05-29
END:VEVENT
END:VCALENDAR
