BEGIN:VCALENDAR
VERSION:2.0
PRODID:icalendar-ruby
CALSCALE:GREGORIAN
METHOD:PUBLISH
BEGIN:VEVENT
DTSTAMP:20260425T172610Z
UID:1596-31646869@christchurchcathedral.bc.ca
DTSTART:20260522T020000Z
DTEND:20260522T040000Z
CLASS:PUBLIC
CREATED:20260423T131447
DESCRIPTION:Turn on the television and you are bombarded with programs on f
 inding\, designing\, building\, buying\, restoring or furnishing your home
 . Meanwhile\, the earth is radically polluted and millions of people world
 wide are refugees. What is “home” in Christian theology and how might 
 a theology of home point to a way out of the twin poles of consumerism and
  homelessness in the contemporary west?\nDr. Garrigan will help us reframe
  the way we think about “home” and therefore our unhoused neighbours. 
 She will invite us to imagine home as “participating instead of possessi
 ng” in every  sphere of life\, in pursuit of a theology of home capable
  of preventing homelessness and not merely ministering to people experienc
 ing it.\nFree admission\nThe John Albert Hall Lecture will be the opening 
 event of a 3-day conference on homelessness in Victoria hosted by the cath
 edral. The full list of events can be seen here
LAST-MODIFIED:20260423T131447
LOCATION:Christ Church Cathedral
SUMMARY:John Albert Hall Lecture 
URL;VALUE=URI:https://www.christchurchcathedral.bc.ca/events/john-albert-ha
 ll-lecture--1596/2026-05-21
ATTACH;FILENAME=John Albert Hall 2026.jpg;FMTTYPE=image/jpeg:https://dq5pwp
 g1q8ru0.cloudfront.net/2026/04/23/20/08/04/7f386875-4374-48db-9a16-6f260e8
 53d34/John%20Albert%20Hall%202026.jpg
END:VEVENT
END:VCALENDAR
