BEGIN:VCALENDAR
VERSION:2.0
PRODID:icalendar-ruby
CALSCALE:GREGORIAN
METHOD:PUBLISH
BEGIN:VEVENT
DTSTAMP:20260425T172609Z
UID:1592-30962062@christchurchcathedral.bc.ca
DTSTART:20260607T023000Z
DTEND:20260607T033000Z
CLASS:PUBLIC
CREATED:20260416T135425
DESCRIPTION:The Victoria Philharmonic presents Haydn's beautiful oratorio 
 The Seasons with talented international soloists\, orchestra\, and choir. 
 Conducted by Peter Butterfield. \nPresented in partnership with the Victo
 ria Philharmonic Choir.\nTickets at vpchoir.tickit.ca.
LAST-MODIFIED:20260416T135425
LOCATION:Christ Church Cathedral
SUMMARY:Haydn's The Seasons
URL;VALUE=URI:https://www.christchurchcathedral.bc.ca/events/haydns-the-sea
 sons/2026-06-06
END:VEVENT
END:VCALENDAR
