BEGIN:VCALENDAR
VERSION:2.0
PRODID:icalendar-ruby
CALSCALE:GREGORIAN
METHOD:PUBLISH
BEGIN:VEVENT
DTSTAMP:20260419T170608Z
UID:1276-31222370@christchurchcathedral.bc.ca
DTSTART:20261013T000000Z
DTEND:20261013T003000Z
CLASS:PUBLIC
CREATED:20260419T071719
DESCRIPTION:Join us for this simple service of Evening Prayer every weekday
  at 5.00 p.m. in the Lady Chapel.
LAST-MODIFIED:20260419T071719
LOCATION:The Lady Chapel
SUMMARY:Evening Prayer
URL;VALUE=URI:https://www.christchurchcathedral.bc.ca/events/evening-prayer
 --1276/2026-10-12
ATTACH;FILENAME=5.00 pm Evening Prayer Banner.png;FMTTYPE=image/png:https:/
 /dq5pwpg1q8ru0.cloudfront.net/2024/01/12/22/21/56/bf314f8a-00fa-4bde-a522-
 c22ac394b05f/5.00%20pm%20Evening%20Prayer%20Banner.png
END:VEVENT
END:VCALENDAR
