BEGIN:VCALENDAR
VERSION:2.0
PRODID:icalendar-ruby
CALSCALE:GREGORIAN
METHOD:PUBLISH
BEGIN:VEVENT
DTSTAMP:20260425T172618Z
UID:1590-31630531@christchurchcathedral.bc.ca
DTSTART:20260517T030000Z
DTEND:20260517T043000Z
CLASS:PUBLIC
CREATED:20260423T112706
DESCRIPTION:Canada's national Choral Conference and Festival presents the C
 hronos Vocal Ensemble (AB) and Vancouver Chamber Choir (BC). \nPresented 
 in partnership with Choral Canada\, and the British Columbia Choral Federa
 tion.\nTickets available HERE. 
LAST-MODIFIED:20260423T112706
LOCATION:Christ Church Cathedral
SUMMARY:Chronos Vocal Ensemble & Vancouver Chamber Choir
URL;VALUE=URI:https://www.christchurchcathedral.bc.ca/events/chronos-vocal-
 ensemble-vancouver-chamber-choir/2026-05-16
ATTACH;FILENAME=podium2026_blue-square.jpg;FMTTYPE=image/jpeg:https://dq5pw
 pg1q8ru0.cloudfront.net/2026/04/23/18/27/06/6d839937-149f-4951-920f-a129e4
 dfaaa7/podium2026_blue-square.jpg
END:VEVENT
END:VCALENDAR
