BEGIN:VCALENDAR
VERSION:2.0
PRODID:icalendar-ruby
CALSCALE:GREGORIAN
METHOD:PUBLISH
BEGIN:VEVENT
DTSTAMP:20260425T172051Z
UID:1593-30962063@christchurchcathedral.bc.ca
DTSTART:20260613T023000Z
DTEND:20260613T033000Z
CLASS:PUBLIC
CREATED:20260416T135623
DESCRIPTION:An old-fashioned hymn sing with a twist! Support the work of th
 e cathedral through an evening of hymn singing with a side of beer (and ot
 her alcoholic and non-alcoholic libations!)\nAdmission by donation
LAST-MODIFIED:20260416T135623
LOCATION:Christ Church Cathedral
SUMMARY:Beer and Hymns!
URL;VALUE=URI:https://www.christchurchcathedral.bc.ca/events/beer-and-hymns
 --1593/2026-06-12
END:VEVENT
END:VCALENDAR
