BEGIN:VCALENDAR
VERSION:2.0
PRODID:icalendar-ruby
CALSCALE:GREGORIAN
METHOD:PUBLISH
BEGIN:VEVENT
DTSTAMP:20260421T164412Z
UID:1050-31432250@christchurchcathedral.bc.ca
DTSTART:20261011T161500Z
DTEND:20261011T173000Z
CLASS:PUBLIC
CREATED:20260421T083621
DESCRIPTION:
LAST-MODIFIED:20260421T083621
LOCATION:Christ Church Cathedral - Nave
SUMMARY:9.15am Eucharist 
URL;VALUE=URI:https://www.christchurchcathedral.bc.ca/events/9-15am-euchari
 st/2026-10-11
ATTACH;FILENAME=9.15am Eucharist Banner.png;FMTTYPE=image/png:https://dq5pw
 pg1q8ru0.cloudfront.net/2022/09/21/10/40/06/e7703891-7d2f-4aa9-973c-c5dee2
 b6624d/9.15am%20Eucharist%20Banner.png
END:VEVENT
END:VCALENDAR
